BEGIN:VCALENDAR
VERSION:2.0
PRODID:-//Nueva Acrópolis Guatemala - ECPv6.14.2//NONSGML v1.0//EN
CALSCALE:GREGORIAN
METHOD:PUBLISH
X-ORIGINAL-URL:https://www.nuevaacropolis.org.gt
X-WR-CALDESC:Eventos para Nueva Acrópolis Guatemala
REFRESH-INTERVAL;VALUE=DURATION:PT1H
X-Robots-Tag:noindex
X-PUBLISHED-TTL:PT1H
BEGIN:VTIMEZONE
TZID:UTC
BEGIN:STANDARD
TZOFFSETFROM:+0000
TZOFFSETTO:+0000
TZNAME:UTC
DTSTART:20250101T000000
END:STANDARD
END:VTIMEZONE
BEGIN:VEVENT
DTSTART;TZID=UTC:20250807T183000
DTEND;TZID=UTC:20250807T183000
DTSTAMP:20260422T031430
CREATED:20250813T001921Z
LAST-MODIFIED:20250813T002158Z
UID:8699-1754591400-1754591400@www.nuevaacropolis.org.gt
SUMMARY:Monólogo: Domina tu mente y encuentra tu camino. Sede zona 11.
DESCRIPTION:Acompáñanos a presenciar un monólogo especial en donde Helena Petrovna Blavatsky\, personaje clave del pensamiento esotérico\, nos inspirará a reflexionar sobre el poder del dominio de la mente como una herramienta para descubrir nuestro verdadero camino en la vida. \nA través de sus palabras\, exploraremos cómo el control consciente de nuestros pensamientos puede abrirnos las puertas a la sabiduría interior y transformar nuestra vida. \nTe esperamos:\n📆 Jueves 7 de agosto\n🕡 A las 18:30 hrs\n📍 En Sede Mariscal\n20 calle 6-70 zona 11\n🎟️ Entrada libre \n¡No te lo pierdas! \nAdemás será una excelente oportunidad para conocer más sobre nuestro curso de Filosofía\, que está por comenzar✨ \n¡Te esperamos! 🎺🎺🎺
URL:https://www.nuevaacropolis.org.gt/evento/monologo-domina-tu-mente-y-encuentra-tu-camino/
LOCATION:Nueva Acrópolis zona 11\, 20 calle 6-70 zona 11 Colonia Mariscal\, Guatemala\, 01001\, Guatemala
CATEGORIES:Teatro
ATTACH;FMTTYPE=image/jpeg:https://www.nuevaacropolis.org.gt/wp-content/uploads/2025/08/monólogo-domina-tu-mente.jpeg
END:VEVENT
BEGIN:VEVENT
DTSTART;TZID=UTC:20250816T160000
DTEND;TZID=UTC:20250816T180000
DTSTAMP:20260422T031430
CREATED:20250813T003544Z
LAST-MODIFIED:20250813T003711Z
UID:8713-1755360000-1755367200@www.nuevaacropolis.org.gt
SUMMARY:Obra de teatro: "Prohibido suicidarse en primavera". Sede de Cobán\, A.V.
DESCRIPTION:En una institución llamada El Hogar del Suicida\, donde acuden personas que han perdido la esperanza\, la llegada de nuevos visitantes desencadena una serie de encuentros cargados de humor\, ternura y profundo dolor existencial. Esta adaptación incorpora la figura de un Narrador que guía al público a través del viaje emocional de los personajes\, iluminando sus deseos\, contradicciones y momentos de redención. Entre diálogos poéticos y situaciones absurdas\, la obra se transforma en una reflexión sobre la fragilidad de la vida\, el valor del afecto humano y la posibilidad de renacer incluso en los márgenes más oscuros del alma. Esta presentación será en el salón de Sociedad de Beneficencia en Cobán\, A.V.
URL:https://www.nuevaacropolis.org.gt/evento/obra-de-teatro-prohibido-suicidarse-en-primavera-sede-de-coban-a-v/
LOCATION:Nueva Acrópolis sede Cobán\, 6 avenida 2-15\, zona 1 Cobán\, Cobán\, Alta Verapaz\, 16001\, Guatemala
CATEGORIES:Teatro
ATTACH;FMTTYPE=image/jpeg:https://www.nuevaacropolis.org.gt/wp-content/uploads/2025/08/prohibido.jpg
END:VEVENT
BEGIN:VEVENT
DTSTART;TZID=UTC:20250816T180000
DTEND;TZID=UTC:20250816T200000
DTSTAMP:20260422T031430
CREATED:20250813T002448Z
LAST-MODIFIED:20250813T154719Z
UID:8704-1755367200-1755374400@www.nuevaacropolis.org.gt
SUMMARY:Obra de teatro: "El Arte de Ser Estoico y No Morir en el Intento". Sede zona 11.
DESCRIPTION:Acompáñanos a presenciar una historia divertida y reflexiva sobre la búsqueda filosófica. Un joven\, decidido a vivir según los principios del estoicismo\, descubre que no es tan sencillo como pensaba. Cada vez que malinterpreta las enseñanzas estoicas\, aparece un sabio Estoico del pasado para corregirlo\, guiándolo con humor\, paciencia y profundidad hacia una comprensión más auténtica de esta filosofía de vida. \nTe esperamos:\n📆 Sábado 16 de agosto\n🕜 A las 19hrs\n📍 En Sede Mariscal\, 20 calle 6-70 zona 11\n🎟️ Entrada: Q20 \nNo te pierdas esta obra que nos invita a cuestionar nuestras ideas\, a reírnos de nuestras confusiones y a descubrir el verdadero poder del dominio interior. \n 
URL:https://www.nuevaacropolis.org.gt/evento/obra-de-teatro-el-arte-de-ser-estoico-y-no-morir-en-el-intento-sede-zona-11/
LOCATION:Alta Verapaz
CATEGORIES:Teatro
ATTACH;FMTTYPE=image/jpeg:https://www.nuevaacropolis.org.gt/wp-content/uploads/2025/08/arte-de-ser-estoico.jpeg
END:VEVENT
BEGIN:VEVENT
DTSTART;TZID=UTC:20250823T160000
DTEND;TZID=UTC:20250823T180000
DTSTAMP:20260422T031430
CREATED:20250813T003850Z
LAST-MODIFIED:20250813T003850Z
UID:8717-1755964800-1755972000@www.nuevaacropolis.org.gt
SUMMARY:Obra de teatro: "Prohibido suicidarse en primavera". Sede de Cobán\, A.V.
DESCRIPTION:En una institución llamada El Hogar del Suicida\, donde acuden personas que han perdido la esperanza\, la llegada de nuevos visitantes desencadena una serie de encuentros cargados de humor\, ternura y profundo dolor existencial. Esta adaptación incorpora la figura de un Narrador que guía al público a través del viaje emocional de los personajes\, iluminando sus deseos\, contradicciones y momentos de redención. Entre diálogos poéticos y situaciones absurdas\, la obra se transforma en una reflexión sobre la fragilidad de la vida\, el valor del afecto humano y la posibilidad de renacer incluso en los márgenes más oscuros del alma. Está presentación será realizará en la sede de Nueva Acrópolis en San Pedro Carchá.
URL:https://www.nuevaacropolis.org.gt/evento/obra-de-teatro-prohibido-suicidarse-en-primavera-sede-de-coban-a-v-2/
LOCATION:Nueva Acrópolis sede Cobán\, 6 avenida 2-15\, zona 1 Cobán\, Cobán\, Alta Verapaz\, 16001\, Guatemala
CATEGORIES:Teatro
ATTACH;FMTTYPE=image/jpeg:https://www.nuevaacropolis.org.gt/wp-content/uploads/2025/08/prohibido.jpg
END:VEVENT
END:VCALENDAR