BEGIN:VCALENDAR
VERSION:2.0
PRODID:-//Nueva Acrópolis Guatemala - ECPv6.14.2//NONSGML v1.0//EN
CALSCALE:GREGORIAN
METHOD:PUBLISH
X-WR-CALNAME:Nueva Acrópolis Guatemala
X-ORIGINAL-URL:https://www.nuevaacropolis.org.gt
X-WR-CALDESC:Eventos para Nueva Acrópolis Guatemala
REFRESH-INTERVAL;VALUE=DURATION:PT1H
X-Robots-Tag:noindex
X-PUBLISHED-TTL:PT1H
BEGIN:VTIMEZONE
TZID:UTC
BEGIN:STANDARD
TZOFFSETFROM:+0000
TZOFFSETTO:+0000
TZNAME:UTC
DTSTART:20260101T000000
END:STANDARD
END:VTIMEZONE
BEGIN:VEVENT
DTSTART;TZID=UTC:20260301T080000
DTEND;TZID=UTC:20260301T100000
DTSTAMP:20260421T152842
CREATED:20260302T214820Z
LAST-MODIFIED:20260302T214820Z
UID:9467-1772352000-1772359200@www.nuevaacropolis.org.gt
SUMMARY:En bici con pensamiento estoico
DESCRIPTION:En bici con pensamiento estoico \nAndar en bicicleta naturalmente nos conduce a un dálogo interno. ¿Sabías que muchos de los pensamientos que te motivan a seguir pedaleando podrían ser estoicos? fortalecer la voluntad\, mantener la calma\, incluso cuando el camino se pone cuesta arriba. Filosofía en el camino: tendremos 3 paradas donde encontraremos páginas llenas de filosofía estoica que luego podrás llevar contigo. Al llegar\, disfrutaremos de la cultura y los sabores locales en el colorido mercadito frente a la iglesia de San Andrés Xecul. ¡Ven a nutrir el cuerpo y el alma! \n¡Ven a probar algo diferente\, el camino nos espera! \nDomingo 1 de marzo\nHora: 08:00 h.\nSalida: Nueva Acrópolis (15 av\, 3-23 zona 1\, frente a Stereo 100)\nDestino: San Andrés Xecul\nNivel: Principiante – Medio\nParticipación gratuita.\nLlevar dinero en efectivo para tu atolito.\nRecomendaciones:\n– Trae tu equipo básico de seguridad (casco y luces).\n– Hidratación y\, sobre todo\, mucha disposición.
URL:https://www.nuevaacropolis.org.gt/evento/en-bici-con-pensamiento-estoico/
LOCATION:Nueva Acrópolis sede Xela\, 15 avenida 3-23 zona 1\, Quetzaltenango\, Quetzaltenango\, Quetzaltenango\, 09001\, Guatemala
CATEGORIES:Deporte
ATTACH;FMTTYPE=image/jpeg:https://www.nuevaacropolis.org.gt/wp-content/uploads/2026/03/bici-xela.jpeg
END:VEVENT
END:VCALENDAR