BEGIN:VCALENDAR
VERSION:2.0
PRODID:-//Nueva Acrópolis Guatemala - ECPv6.14.2//NONSGML v1.0//EN
CALSCALE:GREGORIAN
METHOD:PUBLISH
X-WR-CALNAME:Nueva Acrópolis Guatemala
X-ORIGINAL-URL:https://www.nuevaacropolis.org.gt
X-WR-CALDESC:Eventos para Nueva Acrópolis Guatemala
REFRESH-INTERVAL;VALUE=DURATION:PT1H
X-Robots-Tag:noindex
X-PUBLISHED-TTL:PT1H
BEGIN:VTIMEZONE
TZID:UTC
BEGIN:STANDARD
TZOFFSETFROM:+0000
TZOFFSETTO:+0000
TZNAME:UTC
DTSTART:20260101T000000
END:STANDARD
END:VTIMEZONE
BEGIN:VEVENT
DTSTART;TZID=UTC:20260314T190000
DTEND;TZID=UTC:20260314T213000
DTSTAMP:20260421T191037
CREATED:20260302T205305Z
LAST-MODIFIED:20260302T205305Z
UID:9435-1773514800-1773523800@www.nuevaacropolis.org.gt
SUMMARY:Rokola
DESCRIPTION:¡Concierto con las canciones más emblemáticas del rock en guitarra acústica! \nLos esperamos:\nSábado 14 de noviembre\n19:00hrs\n7 calle 3-62\, sede zona 1
URL:https://www.nuevaacropolis.org.gt/evento/rokola/
LOCATION:Nueva Acrópolis Zona 1 (Guatemala City)\, 7 calle 3-62 zona 1\, Guatemala\, 01001\, Guatemala
CATEGORIES:Concierto,Música
ATTACH;FMTTYPE=image/jpeg:https://www.nuevaacropolis.org.gt/wp-content/uploads/2026/03/rock.jpeg
END:VEVENT
END:VCALENDAR