BEGIN:VCALENDAR
VERSION:2.0
PRODID:-//Nueva Acrópolis Guatemala - ECPv6.14.2//NONSGML v1.0//EN
CALSCALE:GREGORIAN
METHOD:PUBLISH
X-ORIGINAL-URL:https://www.nuevaacropolis.org.gt
X-WR-CALDESC:Eventos para Nueva Acrópolis Guatemala
REFRESH-INTERVAL;VALUE=DURATION:PT1H
X-Robots-Tag:noindex
X-PUBLISHED-TTL:PT1H
BEGIN:VTIMEZONE
TZID:UTC
BEGIN:STANDARD
TZOFFSETFROM:+0000
TZOFFSETTO:+0000
TZNAME:UTC
DTSTART:20260101T000000
END:STANDARD
END:VTIMEZONE
BEGIN:VEVENT
DTSTART;TZID=UTC:20260207T170000
DTEND;TZID=UTC:20260207T190000
DTSTAMP:20260421T152413
CREATED:20260130T194641Z
LAST-MODIFIED:20260130T194641Z
UID:9352-1770483600-1770490800@www.nuevaacropolis.org.gt
SUMMARY:Necesitamos más cultura
DESCRIPTION:Te invitamos a un espacio de reflexión y diálogo sobre la importancia de la cultura en nuestra vida y en nuestra sociedad. \nConversaremos sobre por qué necesitamos más cultura para fortalecer el pensamiento crítico\, la convivencia y el sentido de lo que compartimos como comunidad. \n  \n📅 Sábado 07 de febrero\n⏰ 17:00 horas\n📍 Pendiente (IGA) \nUn espacio abierto para quienes sienten curiosidad por la filosofía y la búsqueda interior. \n¡Te esperamos! 🌺
URL:https://www.nuevaacropolis.org.gt/evento/necesitamos-mas-cultura/
LOCATION:Nueva Acrópolis Zona 10 (Guatemala City)\, 20 calle 10-96 zona 10\, Guatemala\, 01001\, Guatemala
CATEGORIES:Charla
ATTACH;FMTTYPE=image/jpeg:https://www.nuevaacropolis.org.gt/wp-content/uploads/2026/01/11246DCF-81A7-4C3B-AD83-439C1B4E5111.jpg
END:VEVENT
BEGIN:VEVENT
DTSTART;TZID=UTC:20260217T080000
DTEND;TZID=UTC:20260217T170000
DTSTAMP:20260421T152413
CREATED:20260130T200606Z
LAST-MODIFIED:20260130T200616Z
UID:9355-1771315200-1771347600@www.nuevaacropolis.org.gt
SUMMARY:La vida de Giordano Bruno y su aporte al pensamiento moderno
DESCRIPTION:Te invitamos a un espacio de reflexión y diálogo en torno a la vida y el pensamiento de Giordano Bruno\, una figura clave en la historia de las ideas. \nConversaremos sobre su visión del mundo\, su defensa de la libertad de pensamiento y la vigencia de su legado en la comprensión de la verdad y la existencia. \n📅 Martes 16 de febrero\n⏰ 19:00 horas\n📍 Pendiente (Inst. Italiando de Cultura) \n¡Te esperamos! 🌺
URL:https://www.nuevaacropolis.org.gt/evento/la-vida-de-giordano-bruno-y-su-aporte-al-pensamiento-mderno/
LOCATION:Nueva Acrópolis Zona 10 (Guatemala City)\, 20 calle 10-96 zona 10\, Guatemala\, 01001\, Guatemala
CATEGORIES:Charla,Conferencia
ATTACH;FMTTYPE=image/jpeg:https://www.nuevaacropolis.org.gt/wp-content/uploads/2026/01/giordano-bruno.jpg
END:VEVENT
BEGIN:VEVENT
DTSTART;TZID=UTC:20260221T180000
DTEND;TZID=UTC:20260221T190000
DTSTAMP:20260421T152413
CREATED:20260130T200757Z
LAST-MODIFIED:20260130T200757Z
UID:9359-1771696800-1771700400@www.nuevaacropolis.org.gt
SUMMARY:La vida de Giordano Bruno y su aporte al pensamiento moderno
DESCRIPTION:Te invitamos a un micrófono abierto de poesía\, un espacio para la palabra viva y la escucha atenta. \nCompartiremos lecturas de autores escogidos\, celebrando la voz poética como forma de expresión\, encuentro y sensibilidad. \n📅 sabado 21 de febrero\n⏰ 18:00 horas\n📍 Nueva Acropolis Sede Zona 10 (20 calle 10-96 zona 10) \n¡Te esperamos! 🌺
URL:https://www.nuevaacropolis.org.gt/evento/la-vida-de-giordano-bruno-y-su-aporte-al-pensamiento-moderno/
LOCATION:Nueva Acrópolis Zona 10 (Guatemala City)\, 20 calle 10-96 zona 10\, Guatemala\, 01001\, Guatemala
CATEGORIES:Charla,Conferencia
ATTACH;FMTTYPE=image/jpeg:https://www.nuevaacropolis.org.gt/wp-content/uploads/2026/01/giordano-bruno.jpg
END:VEVENT
END:VCALENDAR