BEGIN:VCALENDAR
VERSION:2.0
PRODID:-//Nueva Acrópolis Guatemala - ECPv6.14.2//NONSGML v1.0//EN
CALSCALE:GREGORIAN
METHOD:PUBLISH
X-ORIGINAL-URL:https://www.nuevaacropolis.org.gt
X-WR-CALDESC:Eventos para Nueva Acrópolis Guatemala
REFRESH-INTERVAL;VALUE=DURATION:PT1H
X-Robots-Tag:noindex
X-PUBLISHED-TTL:PT1H
BEGIN:VTIMEZONE
TZID:UTC
BEGIN:STANDARD
TZOFFSETFROM:+0000
TZOFFSETTO:+0000
TZNAME:UTC
DTSTART:20260101T000000
END:STANDARD
END:VTIMEZONE
BEGIN:VEVENT
DTSTART;TZID=UTC:20260217T080000
DTEND;TZID=UTC:20260217T170000
DTSTAMP:20260421T170228
CREATED:20260130T200606Z
LAST-MODIFIED:20260130T200616Z
UID:9355-1771315200-1771347600@www.nuevaacropolis.org.gt
SUMMARY:La vida de Giordano Bruno y su aporte al pensamiento moderno
DESCRIPTION:Te invitamos a un espacio de reflexión y diálogo en torno a la vida y el pensamiento de Giordano Bruno\, una figura clave en la historia de las ideas. \nConversaremos sobre su visión del mundo\, su defensa de la libertad de pensamiento y la vigencia de su legado en la comprensión de la verdad y la existencia. \n📅 Martes 16 de febrero\n⏰ 19:00 horas\n📍 Pendiente (Inst. Italiando de Cultura) \n¡Te esperamos! 🌺
URL:https://www.nuevaacropolis.org.gt/evento/la-vida-de-giordano-bruno-y-su-aporte-al-pensamiento-mderno/
LOCATION:Nueva Acrópolis Zona 10 (Guatemala City)\, 20 calle 10-96 zona 10\, Guatemala\, 01001\, Guatemala
CATEGORIES:Charla,Conferencia
ATTACH;FMTTYPE=image/jpeg:https://www.nuevaacropolis.org.gt/wp-content/uploads/2026/01/giordano-bruno.jpg
END:VEVENT
END:VCALENDAR