BEGIN:VCALENDAR
VERSION:2.0
PRODID:-//Nueva Acrópolis Guatemala - ECPv6.14.2//NONSGML v1.0//EN
CALSCALE:GREGORIAN
METHOD:PUBLISH
X-WR-CALNAME:Nueva Acrópolis Guatemala
X-ORIGINAL-URL:https://www.nuevaacropolis.org.gt
X-WR-CALDESC:Eventos para Nueva Acrópolis Guatemala
REFRESH-INTERVAL;VALUE=DURATION:PT1H
X-Robots-Tag:noindex
X-PUBLISHED-TTL:PT1H
BEGIN:VTIMEZONE
TZID:UTC
BEGIN:STANDARD
TZOFFSETFROM:+0000
TZOFFSETTO:+0000
TZNAME:UTC
DTSTART:20260101T000000
END:STANDARD
END:VTIMEZONE
BEGIN:VEVENT
DTSTART;TZID=UTC:20260509T150000
DTEND;TZID=UTC:20260509T150000
DTSTAMP:20260423T135508
CREATED:20260422T204020Z
LAST-MODIFIED:20260422T204210Z
UID:9788-1778338800-1778338800@www.nuevaacropolis.org.gt
SUMMARY:Club de Juegos de Mesa
DESCRIPTION:No te pierdas nuestro Club de Juegos de Mesa\, es un espacio para divertirnos\, aprender y desarrollar habilidades como la memoria\, la estrategia y más. \nVen a disfrutar de los juegos y de compartir una tarde diferente con otras personas \n📅 Sábado 9 de mayo\n⏰ A las 15hrs\n📍 En Nueva Acrópolis Mariscal\n20 calle 6-70 zona 11\n💰 Entrada por consumo \n¡Puedes traer tus propios juegos\, te esperamos!
URL:https://www.nuevaacropolis.org.gt/evento/club-de-juegos-de-mesa-6/
LOCATION:Nueva Acrópolis zona 11\, 20 calle 6-70 zona 11 Colonia Mariscal\, Guatemala\, 01001\, Guatemala
CATEGORIES:Club de Juegos de Mesa
ATTACH;FMTTYPE=image/jpeg:https://www.nuevaacropolis.org.gt/wp-content/uploads/2026/04/ç.jpg
END:VEVENT
END:VCALENDAR