BEGIN:VCALENDAR
VERSION:2.0
PRODID:-//Nueva Acrópolis Guatemala - ECPv6.14.2//NONSGML v1.0//EN
CALSCALE:GREGORIAN
METHOD:PUBLISH
X-ORIGINAL-URL:https://www.nuevaacropolis.org.gt
X-WR-CALDESC:Eventos para Nueva Acrópolis Guatemala
REFRESH-INTERVAL;VALUE=DURATION:PT1H
X-Robots-Tag:noindex
X-PUBLISHED-TTL:PT1H
BEGIN:VTIMEZONE
TZID:UTC
BEGIN:STANDARD
TZOFFSETFROM:+0000
TZOFFSETTO:+0000
TZNAME:UTC
DTSTART:20260101T000000
END:STANDARD
END:VTIMEZONE
BEGIN:VEVENT
DTSTART;TZID=UTC:20260502T100000
DTEND;TZID=UTC:20260502T233000
DTSTAMP:20260423T232905
CREATED:20260422T210816Z
LAST-MODIFIED:20260422T210816Z
UID:9807-1777716000-1777764600@www.nuevaacropolis.org.gt
SUMMARY:Clase: El tablero y como entenderlo estratégicamente.
DESCRIPTION:En esta sesión de nuestro club de ajedrez exploraremos uno de los aspectos más importantes del juego: el tablero y cómo entenderlo estratégicamente. \nAprenderemos sobre las dimensiones del tablero y por qué es fundamental conocer cada espacio para tomar mejores decisiones durante la partida. Además\, profundizaremos en conceptos clave como el centro\, el centro ampliado\, el flanco de dama y el flanco de rey\, entendiendo cómo cada una de estas zonas influye en el desarrollo del juego y en la creación de estrategias efectivas. \nA través de ejemplos prácticos y dinámicas\, los participantes podrán reconocer la importancia de controlar el tablero y cómo esto puede marcar la diferencia entre ganar o perder una partida. \nUn espacio ideal para aprender\, practicar y fortalecer el pensamiento estratégico de forma divertida
URL:https://www.nuevaacropolis.org.gt/evento/clase-el-tablero-y-como-entenderlo-estrategicamente/
LOCATION:Nueva Acrópolis sede Cobán\, 6 avenida 2-15\, zona 1 Cobán\, Cobán\, Alta Verapaz\, 16001\, Guatemala
CATEGORIES:Ajedrez,Club de Ajedrez
ATTACH;FMTTYPE=image/jpeg:https://www.nuevaacropolis.org.gt/wp-content/uploads/2026/04/chess-2.jpg
END:VEVENT
END:VCALENDAR