BEGIN:VCALENDAR
VERSION:2.0
PRODID:-//Nueva Acrópolis Guatemala - ECPv6.14.2//NONSGML v1.0//EN
CALSCALE:GREGORIAN
METHOD:PUBLISH
X-ORIGINAL-URL:https://www.nuevaacropolis.org.gt
X-WR-CALDESC:Eventos para Nueva Acrópolis Guatemala
REFRESH-INTERVAL;VALUE=DURATION:PT1H
X-Robots-Tag:noindex
X-PUBLISHED-TTL:PT1H
BEGIN:VTIMEZONE
TZID:UTC
BEGIN:STANDARD
TZOFFSETFROM:+0000
TZOFFSETTO:+0000
TZNAME:UTC
DTSTART:20260101T000000
END:STANDARD
END:VTIMEZONE
BEGIN:VEVENT
DTSTART;TZID=UTC:20260307T190000
DTEND;TZID=UTC:20260307T210000
DTSTAMP:20260421T171506
CREATED:20260302T204222Z
LAST-MODIFIED:20260302T204222Z
UID:9426-1772910000-1772917200@www.nuevaacropolis.org.gt
SUMMARY:Noche de Poesía y Vino
DESCRIPTION:Te invitamos a una noche para detener el tiempo\, escuchar las palabras y dejar que las preguntas respiren. \nVersos que reflexionan sobre la vida\, el sentido\, el amor\, el destino y el silencio.\nUna velada donde la poesía no solo se lee\, se piensa y se siente. \n🌙 Lectura\, reflexión y diálogo\n🖋️ Palabras que invitan a mirar hacia adentro\n🤍 Un espacio íntimo para compartir pensamiento y emoción \n🗓️ Sábado 7 de marzo\n🕰️ 19.00 horas\n📍 Sede Zona 10 (20 calle 10-96 zona 10) \nVen a escuchar\, leer o simplemente dejarte llevar por la profundidad de la palabra hecha poesía
URL:https://www.nuevaacropolis.org.gt/evento/noche-de-poesia-y-vino/
LOCATION:Nueva Acrópolis Zona 10 (Guatemala City)\, 20 calle 10-96 zona 10\, Guatemala\, 01001\, Guatemala
CATEGORIES:Poesía
ATTACH;FMTTYPE=image/jpeg:https://www.nuevaacropolis.org.gt/wp-content/uploads/2026/03/poesía.jpg
END:VEVENT
BEGIN:VEVENT
DTSTART;TZID=UTC:20260320T183000
DTEND;TZID=UTC:20260320T200000
DTSTAMP:20260421T171506
CREATED:20260305T182212Z
LAST-MODIFIED:20260305T182212Z
UID:9490-1774031400-1774036800@www.nuevaacropolis.org.gt
SUMMARY:Club de Poesía: Introducción a la poesía
DESCRIPTION:Las letras de un poema pueden acariciar el alma\, ven a encontrar en las palabras una belleza que solo los versos pueden  evocar\,  ¡ven a descubrir que _leer poesía  en voz alta_ ! \nIniciamos con la Sociedad de los Poetas Filosóficos el 20 de marzo con una sesión introductoria sobre lo que es la poesía\, cómo nace la poesía\, cómo se expresa  y leeremos algunos poemas.  \nTe invitamos a un espacio íntimo donde cada poema se lee despacio y sentido \, como merece ser leído .  \n  \nEn nueva Acrópolis zona 1: 7 calle 3-62 \nDía: viernes 20 de marzo \nHora: 18:30hrs \nEntrada: sin costo
URL:https://www.nuevaacropolis.org.gt/evento/club-de-poesia-introduccion-a-la-poesia/
LOCATION:Nueva Acrópolis Zona 1 (Guatemala City)\, 7 calle 3-62 zona 1\, Guatemala\, 01001\, Guatemala
CATEGORIES:Poesía
ATTACH;FMTTYPE=image/jpeg:https://www.nuevaacropolis.org.gt/wp-content/uploads/2026/03/WhatsApp-Image-2026-02-26-at-12.08.43.jpeg
END:VEVENT
END:VCALENDAR