BEGIN:VCALENDAR
VERSION:2.0
PRODID:-//Nueva Acrópolis Guatemala - ECPv6.14.2//NONSGML v1.0//EN
CALSCALE:GREGORIAN
METHOD:PUBLISH
X-WR-CALNAME:Nueva Acrópolis Guatemala
X-ORIGINAL-URL:https://www.nuevaacropolis.org.gt
X-WR-CALDESC:Eventos para Nueva Acrópolis Guatemala
REFRESH-INTERVAL;VALUE=DURATION:PT1H
X-Robots-Tag:noindex
X-PUBLISHED-TTL:PT1H
BEGIN:VTIMEZONE
TZID:UTC
BEGIN:STANDARD
TZOFFSETFROM:+0000
TZOFFSETTO:+0000
TZNAME:UTC
DTSTART:20260101T000000
END:STANDARD
END:VTIMEZONE
BEGIN:VEVENT
DTSTART;TZID=UTC:20260503T090000
DTEND;TZID=UTC:20260503T120000
DTSTAMP:20260423T213649
CREATED:20260422T210414Z
LAST-MODIFIED:20260422T210414Z
UID:9804-1777798800-1777809600@www.nuevaacropolis.org.gt
SUMMARY:Caminata en la Finca El Pilar
DESCRIPTION:🌿✨ Aventura en la naturaleza en Finca El Pilar ✨🌿 \nDisfruta de un recorrido único por hermosos senderos rodeados de bosque\, aire puro y paisajes increíbles. 🌳🍃\nUn plan perfecto para desconectarte\, caminar y relajarte en contacto con la naturaleza. \n💧 Además\, puedes complementar tu experiencia con acceso a piscinas para refrescarte y pasar un momento aún más especial. \n📅 Fecha: Domingo 3\n⏰ Hora: 9:00 AM\n📍 Ubicación: San Cristóbal El Bajo\, Sacatepéquez. Finca el Pilar \n💰 Costo:\n🥾 Q65 – Solo senderos\n🏊‍♂️ Q75 – Senderos + piscina \nVen con amigos\, familia o incluso solo… ¡la naturaleza siempre es mejor compañía! 🌄💚
URL:https://www.nuevaacropolis.org.gt/evento/caminata-en-la-finca-el-pilar/
CATEGORIES:Excursión
ATTACH;FMTTYPE=image/jpeg:https://www.nuevaacropolis.org.gt/wp-content/uploads/2026/04/senderos-naturales-summit-rainforest-golf-and-resort_standard.jpg
END:VEVENT
END:VCALENDAR